BEGIN:VCALENDAR
VERSION:2.0
CALSCALE:GREGORIAN
PRODID:-//MyApp//Calendar 1.0//EN
BEGIN:VEVENT
METHOD:PUBLISH
UID:46397@regionalniportaly.cz
DTSTAMP:20260424T182547Z
DTSTART;VALUE=DATE:20241012
DTEND;VALUE=DATE:20241013
SUMMARY:Starostův přespolní běh
DESCRIPTION:
LOCATION:Šlapanice
END:VEVENT
END:VCALENDAR