BEGIN:VCALENDAR
VERSION:2.0
CALSCALE:GREGORIAN
PRODID:-//MyApp//Calendar 1.0//EN
BEGIN:VEVENT
METHOD:PUBLISH
UID:45276@regionalniportaly.cz
DTSTAMP:20260424T200648Z
DTSTART;VALUE=DATE:20240928
DTEND;VALUE=DATE:20240929
SUMMARY:PapírNaFest - minifestival šlapanických hudebníků
DESCRIPTION:Představujeme vám první ročník šlapanického charitativního minifestivalu „PapírNaFest“. Přijďte s námi zažít přehlídku šlapanických kapel plnou&nbsp\;hudby a sváteční pohody.&nbsp\;&nbsp\;Koupí "vstupenky" si kupujete krásný svítící náramek. Výtěžek z prodeje náramků&nbsp\;bude věnován jako dar pro nadaci&nbsp\;„Dobrý anděl“. Náramek vám vydáme na fesťáku u našeho stánku 🧡.Transparentní účet kde můžete sledovat výši daru:&nbsp\;6800826369/0800Ceny&nbsp\;náramků:v předprodeji:&nbsp\;100 Kčna místě: 150 KčMísto a čas konání:&nbsp\;Městský park Šlapanice\, 28.9.\, 13:00-22:00Po celou dobu festivalu se můžete těšit na spoustu hudby různých žánrů a atraktivní&nbsp\;doprovodný program\, stánky s občerstvením a festivalovým zbožím.
LOCATION:Šlapanice
END:VEVENT
END:VCALENDAR