BEGIN:VCALENDAR
VERSION:2.0
CALSCALE:GREGORIAN
PRODID:-//MyApp//Calendar 1.0//EN
BEGIN:VEVENT
METHOD:PUBLISH
UID:43518@regionalniportaly.cz
DTSTAMP:20260424T133833Z
DTSTART;VALUE=DATE:20240726
DTEND;VALUE=DATE:20240727
SUMMARY:Ostrov - Letní kino
DESCRIPTION:
LOCATION:Otmarov
END:VEVENT
END:VCALENDAR