BEGIN:VCALENDAR
VERSION:2.0
CALSCALE:GREGORIAN
PRODID:-//MyApp//Calendar 1.0//EN
BEGIN:VEVENT
METHOD:PUBLISH
UID:42093@regionalniportaly.cz
DTSTAMP:20260424T163632Z
DTSTART;VALUE=DATE:20240510
DTEND;VALUE=DATE:20240511
SUMMARY:Tancuj Matyldo
DESCRIPTION:
LOCATION:Měnín
END:VEVENT
END:VCALENDAR