BEGIN:VCALENDAR
VERSION:2.0
CALSCALE:GREGORIAN
PRODID:-//MyApp//Calendar 1.0//EN
BEGIN:VEVENT
METHOD:PUBLISH
UID:42060@regionalniportaly.cz
DTSTAMP:20260424T182207Z
DTSTART;VALUE=DATE:20240527
DTEND;VALUE=DATE:20240528
SUMMARY:Vedeme dialog
DESCRIPTION:Mgr. Jiří Halda je speciální pedagog\, lektor a rodinný terapeut\, který se orientuje na poruchy chování dětí\, učení a rodinné vztahy. Přednáška je určena rodičům\, prarodičům\, pedagogickým pracovníkům\, tedy všem\, kteří mají zájem o dané téma. Přijďte si poslechnout odborníka a diskutovat o všem\, co vás zajímá.&nbsp\;Na programu budou dle časových možností i další témata.&nbsp\;J. Halda: "Vezměte si pohodlné oblečení a nestyďte se ptát!" :-)
LOCATION:Křenovice
END:VEVENT
END:VCALENDAR