BEGIN:VCALENDAR
VERSION:2.0
CALSCALE:GREGORIAN
PRODID:-//MyApp//Calendar 1.0//EN
BEGIN:VEVENT
METHOD:PUBLISH
UID:41485@regionalniportaly.cz
DTSTAMP:20260424T100750Z
DTSTART;VALUE=DATE:20240601
DTEND;VALUE=DATE:20240602
SUMMARY:Křenovický Rakovec
DESCRIPTION:Srdečně Vás zveme na 21. ročníkhudebního festivalu Křenovický Rakovec\,který se uskuteční v sobotu 1. 6. 2024&nbsp\;v Křenovicích u Slavkova na Sokolském hřišti.Cílem&nbsp\;festivalu je posílení kulturní scény v&nbsp\;našem regionu a také podpora a rozvoj folk a country hudby a začínajících amatérských umělců.&nbsp\;&nbsp\;Vstupné:V předprodeji – 350 KčNa místě&nbsp\; &nbsp\; &nbsp\; &nbsp\; &nbsp\;– 400 KčDěti do 15 let zdarma
LOCATION:Křenovice
END:VEVENT
END:VCALENDAR