BEGIN:VCALENDAR
VERSION:2.0
CALSCALE:GREGORIAN
PRODID:-//MyApp//Calendar 1.0//EN
BEGIN:VEVENT
METHOD:PUBLISH
UID:41040@regionalniportaly.cz
DTSTAMP:20260424T114643Z
DTSTART;VALUE=DATE:20240517
DTEND;VALUE=DATE:20240518
SUMMARY:Garfield ve filmu
DESCRIPTION:
LOCATION:Měnín
END:VEVENT
END:VCALENDAR