BEGIN:VCALENDAR
VERSION:2.0
CALSCALE:GREGORIAN
PRODID:-//MyApp//Calendar 1.0//EN
BEGIN:VEVENT
METHOD:PUBLISH
UID:38868@regionalniportaly.cz
DTSTAMP:20260424T164345Z
DTSTART;VALUE=DATE:20240225
DTEND;VALUE=DATE:20240226
SUMMARY:Aristokratka ve varu
DESCRIPTION:
LOCATION:Měnín
END:VEVENT
END:VCALENDAR