BEGIN:VCALENDAR
VERSION:2.0
CALSCALE:GREGORIAN
PRODID:-//MyApp//Calendar 1.0//EN
BEGIN:VEVENT
METHOD:PUBLISH
UID:37649@regionalniportaly.cz
DTSTAMP:20260424T182854Z
DTSTART;VALUE=DATE:20240802
DTEND;VALUE=DATE:20240803
SUMMARY:LUGHNASAD
DESCRIPTION:Mezinárodní\, keltský festival LughnasadVítej dobrodruhu na předzvěstech události\, jež v tobě opět zažehne oheň keltských radovánek.Věz\, že čas bohů a duchů se nachýlil. Přichází čas poděkování za úrodu\, což jest třeba nebetyčně oslavit.Přichází období hojnosti\, přichází svátek Lughnasad !&nbsp\;2. a 3.8 2024&nbsp\;se kroky poutníků vydají směrem k pestrému a veselému reji. Zázemí nalezneme tentokrát na novém místě a to na&nbsp\;Keltském opidobunkriu Staré Hoře (VZA Bunkr)\, kousek za Brnem.Mezi Mariánským Údolím a Mokrou Horákov. Dorazit můžete pěšky\, autem\,nebo MHD Ze zastávky Mariánské Údolí je to 1km (do kopce\, ale zpátky z kopce) .Na místě vaše uši potěší trubadúrské umění a o váš břich se postarají místní trhovci a krčmáři.Jídla i pití bude hojně. Dobré veselí&nbsp\;jest základem dobré nálady.lughnasad.com&nbsp\;V ceně vstuného je&nbsp\;parkování i stanování v areálu.
LOCATION:Mokrá-Horákov
END:VEVENT
END:VCALENDAR