BEGIN:VCALENDAR
VERSION:2.0
CALSCALE:GREGORIAN
PRODID:-//MyApp//Calendar 1.0//EN
BEGIN:VEVENT
METHOD:PUBLISH
UID:37102@regionalniportaly.cz
DTSTAMP:20260422T112940Z
DTSTART;VALUE=DATE:20231201
DTEND;VALUE=DATE:20240113
SUMMARY:Tři sestry a jeden prsten - ochotnické divadlo
DESCRIPTION:
LOCATION:Šlapanice
END:VEVENT
END:VCALENDAR