BEGIN:VCALENDAR
VERSION:2.0
CALSCALE:GREGORIAN
PRODID:-//MyApp//Calendar 1.0//EN
BEGIN:VEVENT
METHOD:PUBLISH
UID:36547@regionalniportaly.cz
DTSTAMP:20260422T112959Z
DTSTART;VALUE=DATE:20231129
DTEND;VALUE=DATE:20231130
SUMMARY:Zdravý mikrobiom u dětí i dospělých
DESCRIPTION:Přednáška MUDr. Davida Freje na téma: Zdravý mikrobiom u dětí i dospělýchImunita sídlí z 80% ve střevech. Střeva rozhodují nejen o&nbsp\;tom\, zda máte fyzické obtíže\, ale i&nbsp\;psychické obtíže. A&nbsp\;rozhodují i&nbsp\;o&nbsp\;tom\, zda budete mít nadváhu či jiné civilizační choroby. Střevní mikrobiom má tedy zásadní vliv na naše zdraví. Zdravé střevo je důležitá součást naší prevence a životosprávy.Přednáška bude zaměřená na:střevní mozek a imunitastřevní mikrobiom a jak ho ovlivňovatživotospráva dětí a dospělýchpřírodní metodyco\, kdy a&nbsp\;jak jístvědecky prokázané pozitivní účinky na zdraví&nbsp\;Po ukončení studia Lékařské fakulty Univerzity Karlovy pracoval David Frej několik let jako lékař na interním oddělení.Na stáži v&nbsp\;Londýně se rozhodl studovat holistickou a&nbsp\;přírodní medicínu\, protože ho zajímala vždy individuální léčba i&nbsp\;prevence. Kromě jiného studoval alternativní medicínu v&nbsp\;Albuquerque v&nbsp\;Novém Mexiku\, v&nbsp\;Rakousku a&nbsp\;v&nbsp\;indické Puně.Ve své praxi se zabývá léčbou chronických\, zejména civilizačních nemocí\, řešením vleklých zánětů v&nbsp\;těle jako příčiny nemocí\, výživou\, detoxikací a&nbsp\;regenerací organismu. Jeho systém vychází z&nbsp\;kombinace východní a&nbsp\;západní medicíny\, funkční medicíny zaměřené na úpravu metabolismu a&nbsp\;odstranění zánětu\, detoxikace\, individuální stravy včetně řešení potravinové intolerance a&nbsp\;alergií.Založil mezinárodní centrum vzdělávání v&nbsp\;oblasti alternativní medicíny ADVANA.&nbsp\;KDY: 29. listopadu 2023\, 17.30 – 19.30 (může se protáhnout z důvodu otázek)KDE: Sál kulturního domu Záložna\, Sušilovo náměstí 2/6\, Rousínov u BrnaCENA: 375 Kč v předprodeji\, 450 Kč na místěSledování přednášky ze záznamu je možné za 300 KčPřednáška je určena pro dospěléKontakt: prednaskyslavkov@gmail.com&nbsp\;V případě storna ze strany pořadatele bude cena vstupenky vrácena nebo bude přednáška přesunuta na jiný datum. Platba za vstupenku je nevratná\, lze ji ale převést na jinou osobu nebo sledovat online ze záznamu.
LOCATION:Rousínov
END:VEVENT
END:VCALENDAR