BEGIN:VCALENDAR
VERSION:2.0
CALSCALE:GREGORIAN
PRODID:-//MyApp//Calendar 1.0//EN
BEGIN:VEVENT
METHOD:PUBLISH
UID:36546@regionalniportaly.cz
DTSTAMP:20260422T112159Z
DTSTART;VALUE=DATE:20231103
DTEND;VALUE=DATE:20231104
SUMMARY:Melodramy- divadelně hudební představení
DESCRIPTION:Hudebně divadelní představení odehrávající se v netradiční formě - a to přímo na jevišti v těsné\, až intimní\, blízkosti samotných herců.\nTři melodramy v jednom představení\, konkrétně Otakar Ostrčil: Balada česká\, Josef Bohuslav Foerster: Amarus a Zdeněk Filip: Vodník.\nKoproduční představení Divadla 2-15 Brno a divadla D.A.V.A Rousínov v podání herců\, za doprovodu klavíru Lucie Kubátové.\n \nVzhledem k formě představení je počet míst značně omezen! Vstupenky přímo na místě již nebudou. Děkujeme za pochopení.\n\nrežie David Kříž\npředstavení se uskuteční v komorním prostředí jeviště  kulturního sálu Záložny v Rousínově (Sušilovo nám. 2 )\n
LOCATION:Rousínov
END:VEVENT
END:VCALENDAR