BEGIN:VCALENDAR
VERSION:2.0
CALSCALE:GREGORIAN
PRODID:-//MyApp//Calendar 1.0//EN
BEGIN:VEVENT
METHOD:PUBLISH
UID:36402@regionalniportaly.cz
DTSTAMP:20260424T100908Z
DTSTART;VALUE=DATE:20231124
DTEND;VALUE=DATE:20231125
SUMMARY:Hranice
DESCRIPTION:Polsko/ČR 2023\, režie: Agnieszka HollandPsycholožka Julia se po přestěhování do Suwalského kraje stává nedobrovolnou svědkyní a účastnicí dramatických událostí na polsko-běloruské hranici.Drama\, 147 min.\, nevhodný do 12 let
LOCATION:Měnín
END:VEVENT
END:VCALENDAR