BEGIN:VCALENDAR
VERSION:2.0
CALSCALE:GREGORIAN
PRODID:-//MyApp//Calendar 1.0//EN
BEGIN:VEVENT
METHOD:PUBLISH
UID:35433@regionalniportaly.cz
DTSTAMP:20260422T112249Z
DTSTART;VALUE=DATE:20231005
DTEND;VALUE=DATE:20231006
SUMMARY:Dvě povídky
DESCRIPTION:
LOCATION:Rousínov
END:VEVENT
END:VCALENDAR