BEGIN:VCALENDAR
VERSION:2.0
CALSCALE:GREGORIAN
PRODID:-//MyApp//Calendar 1.0//EN
BEGIN:VEVENT
METHOD:PUBLISH
UID:35169@regionalniportaly.cz
DTSTAMP:20260424T082231Z
DTSTART;VALUE=DATE:20230930
DTEND;VALUE=DATE:20231001
SUMMARY:Branný den
DESCRIPTION:Ponořte se do historie s American Liberator ve veřejném zábavním areálu Mokrá-Horákov!Kdy: Sobota\, 30.9.2023\, 10:00 - 18:00Kde: VZA BUNKR MOKRÁ HORÁKOV Zajímáte se o vojenskou historii? Přijďte na Vojensko historický branný den a užijte si s námi den otevřených vrat projektu American Liberator.Co vás čeká?2 dynamické ukázky z 2. světové válkyPrezentace uniforem z doby 2. světové války.&nbsp\;Ukázky kulometů z tohoto obdobíDobové táboryJízdy vojenskou technikouLety vrtulníkemAirsoftová střelnice a expanzní střelnice pro nejmenší Střílíte rádi? Přijďte si zastřílet z více než 90 zbraní od 20. století po současnost - i bez zbrojního průkazu! Děti od 10 let mohou střílet s doprovodem. Prostřednictvím zážitkové střelby umožňujeme veřejnosti nahlédnout do historie a pochopit více informací o tom\, jaké zbraně byly používány v minulosti během velkých válečných konfliktů dvacátého století.Vstupné: Děti do 6 let: zdarma Děti: 150 Kč Dospělí: 200 Kč Rodinná vstupenka: 550 Kč Výborná dostupnost autem i MHD! Děkujeme našim partnerům: BUNKR veřejný zábavní areál\, KVH Dukla\, American Liberator History z.s. a Vojenská a civilní technika Brno z.s. Nečekejte a přijďte prozkoumat vojenskou historii s námi v sobotu 30.9.2023!
LOCATION:Mokrá-Horákov
END:VEVENT
END:VCALENDAR