BEGIN:VCALENDAR
VERSION:2.0
CALSCALE:GREGORIAN
PRODID:-//MyApp//Calendar 1.0//EN
BEGIN:VEVENT
METHOD:PUBLISH
UID:35124@regionalniportaly.cz
DTSTAMP:20260422T112222Z
DTSTART;VALUE=DATE:20231013
DTEND;VALUE=DATE:20231014
SUMMARY:Bod obnovy
DESCRIPTION:
LOCATION:Měnín
END:VEVENT
END:VCALENDAR