BEGIN:VCALENDAR
VERSION:2.0
CALSCALE:GREGORIAN
PRODID:-//MyApp//Calendar 1.0//EN
BEGIN:VEVENT
METHOD:PUBLISH
UID:35066@regionalniportaly.cz
DTSTAMP:20260422T112949Z
DTSTART;VALUE=DATE:20230908
DTEND;VALUE=DATE:20230909
SUMMARY:Císařova brázda - Zahájení 20. divadelní sezóny
DESCRIPTION:Zahájení jubilejní 20. sezóny 2023/2024 divadelního souboru D.A.V.A Rousínov reprízou nové muzikálové úpravy původní činohry Císařova brázda. \nPůvodní scénář byl napsán pro jednoletý festival Rousínovský divadelní podzim v roce 2012. Scénář tvoří společně s textem Rousínovského vodníka a Lásky pod lípou Triptych\, který vznikl přímo na události nebo pověsti vycházející z historie města. Císařova brázda pojednává o historické události orby císaře Josefa II. u Slavíkovic. Humornou formou rozehrává vtipný příběh o nástrahách\, které způsobí žárlivost na lásku dvou mladých ze Slavíkovic.\n\nRežie: David Kříž\nAutor: Renata Svobodová Freisová\nHrají: Kristýna Horčičková\, Daniel Horčička\, Filip Kolmačka\, Marlene Anna Bílková\, Adéla Šeligová\, Marta Černá\, Anna Hofmanová\, Michal Smítal\, Adéla Čáslavová\, Filip Suchomel\n\n 
LOCATION:Rousínov
END:VEVENT
END:VCALENDAR