BEGIN:VCALENDAR
VERSION:2.0
CALSCALE:GREGORIAN
PRODID:-//MyApp//Calendar 1.0//EN
BEGIN:VEVENT
METHOD:PUBLISH
UID:35056@regionalniportaly.cz
DTSTAMP:20260422T112338Z
DTSTART;VALUE=DATE:20231216
DTEND;VALUE=DATE:20231217
SUMMARY:Travesti show Divoké kočky
DESCRIPTION:Akce bude probíhá v sále a přísálí restaurace u popelky. Skvělá zábava\, která Vás bude provázet po celý večer. K tomu můžete si vychutnat skvělé jídlo či michané drink\, limonády atd. Budeme se těšit.&nbsp\;
LOCATION:Šlapanice
END:VEVENT
END:VCALENDAR