BEGIN:VCALENDAR
VERSION:2.0
CALSCALE:GREGORIAN
PRODID:-//MyApp//Calendar 1.0//EN
BEGIN:VEVENT
METHOD:PUBLISH
UID:34061@regionalniportaly.cz
DTSTAMP:20260424T131811Z
DTSTART;VALUE=DATE:20230908
DTEND;VALUE=DATE:20230909
SUMMARY:Deloraine
DESCRIPTION:Odstartujme nový školní rok pořádným koncertem. V pátek 8.září od 19.00 hodin vystoupí v městském parku kapela DELORAINE s předkapelou TÓNIKA.&nbsp\;Deloraine je brněnská sedmičlená skupina\, která vznikla v roce 2016. Ve svých písních zpracovává témata jak z fantasy literatury\, tak z dávných pohanských dob. Deloraine má na kontě dvě autorská alba. Vlaštovka a Srdce z kamene (obě vyhlášena jako album týdne na největším českém portálu musicserver.cz)\, několika singlů nebo spolupráci na populární hře Witcher3: Wild Hunt.&nbsp\;Jejich energická hudba vás prostě nenechá v klidu posedět v koutě.
LOCATION:Šlapanice
END:VEVENT
END:VCALENDAR