BEGIN:VCALENDAR
VERSION:2.0
CALSCALE:GREGORIAN
PRODID:-//MyApp//Calendar 1.0//EN
BEGIN:VEVENT
METHOD:PUBLISH
UID:33669@regionalniportaly.cz
DTSTAMP:20260421T201315Z
DTSTART;VALUE=DATE:20230623
DTEND;VALUE=DATE:20230624
SUMMARY:filtr. 5th anniversary
DESCRIPTION:Marking the 5th year of our collective\, we cannot express enough gratitude and appreciation to all the dancers\, artists\, and individuals who have contributed to our journey to this point. For this occasion\, we were lucky to find a new location that will host an outdoor\, indoor\, and ambient stage curated by our dear friends from AVA kolektiv.&nbsp\;__________indooregotothttps://soundcloud.com/egototetienn greyhttps://soundcloud.com/etienngreyv:sonntaghttps://soundcloud.com/vsonntag&nbsp\;__________outdoorcount2count b2b sxilencehttps://soundcloud.com/count2counthttps://soundcloud.com/sxilencemarie pravda b2b kobayashi maruhttps://soundcloud.com/yomomsmokescrackhttps://soundcloud.com/kobayashi_maruuupdchhttps://soundcloud.com/pdchservicebothttps://soundcloud.com/fuckadaver&nbsp\;__________AVA ambientssnursslahttps://soundcloud.com/ssnursslatatratankhttps://soundcloud.com/tatratankshakaalihttps://soundcloud.com/thistle7tba
LOCATION:Radostice
END:VEVENT
END:VCALENDAR