BEGIN:VCALENDAR
VERSION:2.0
CALSCALE:GREGORIAN
PRODID:-//MyApp//Calendar 1.0//EN
BEGIN:VEVENT
METHOD:PUBLISH
UID:32786@regionalniportaly.cz
DTSTAMP:20260422T112149Z
DTSTART;VALUE=DATE:20230602
DTEND;VALUE=DATE:20230603
SUMMARY:Myška a medvěd na cestách
DESCRIPTION:
LOCATION:Měnín
END:VEVENT
END:VCALENDAR