BEGIN:VCALENDAR
VERSION:2.0
CALSCALE:GREGORIAN
PRODID:-//MyApp//Calendar 1.0//EN
BEGIN:VEVENT
METHOD:PUBLISH
UID:32648@regionalniportaly.cz
DTSTAMP:20260424T082411Z
DTSTART;VALUE=DATE:20230430
DTEND;VALUE=DATE:20230501
SUMMARY:Čarodky na Bunkru (pálení čarodějnic)
DESCRIPTION:V neděli 30.4. Vás zveme&nbsp\;na čarodějnický rej na BUNKRU\, kde si vaše děti užijí spousty zábavy. Zažijí kouzelnická vystoupení\, mohou si prohlédnout bunkr\, ve kterém na ně bude&nbsp\;čekat&nbsp\;baba KOŠTĚHILDA\, opéci si špekáčky a mnoho dalšího.Pro příchozí v kostýmu\, připravíme kouzelný lektvar ZDARMA.&nbsp\;&nbsp\;ČASOVÝ HARMONOGRAM:14:00 - začátek čarodějnického reje14:30 - kouzelnické vystoupeníod 16:00 -&nbsp\;možnost prohlídky bunkru baby KOŠTĚHILDY17:00 - kouzelnické vystoupení18:30 - vzplanutí čarodějnické vatry (špekáčky budou k zakoupení v našem kiosku)&nbsp\;Celou akcí vás bude provázet populární&nbsp\;moderátor Luděk Urbánek SAVANA.Úsměv na rtech vašim dětem vyčaruje kouzelník Michal Ondřej.&nbsp\;&nbsp\;CO VÁS U NÁS DÁLE ČEKÁ A NEMINE&nbsp\;tvarování balónků se zajímavostmi a příběhy&nbsp\;&nbsp\;let zručnosti&nbsp\;&nbsp\;čarodějnická tancovačka&nbsp\;&nbsp\;soutěž o nejkrásnější čarodějnici&nbsp\;&nbsp\;malování na obličej&nbsp\;&nbsp\;jizda obrněným transportérem&nbsp\;&nbsp\;jízda na čtyřkolkách&nbsp\;&nbsp\;jizda na čarodějných koních&nbsp\;&nbsp\;střelba ze vzduchovek&nbsp\;Občerstvení zajištěno.Parkování v areálu.Pejsci na vodítku vítáni.&nbsp\;&nbsp\;
LOCATION:Mokrá-Horákov
END:VEVENT
END:VCALENDAR