BEGIN:VCALENDAR
VERSION:2.0
CALSCALE:GREGORIAN
PRODID:-//MyApp//Calendar 1.0//EN
BEGIN:VEVENT
METHOD:PUBLISH
UID:32432@regionalniportaly.cz
DTSTAMP:20260424T164246Z
DTSTART;VALUE=DATE:20230804
DTEND;VALUE=DATE:20230806
SUMMARY:Lughnasad
DESCRIPTION:Vstupenky budou i na místě.Vítej dobrodruhu na předzvěstech události\, jež v tobě opět zažehne oheň keltských radovánek.Věz\, že čas bohů a duchů se nachýlil. Přichází čas poděkování za úrodu\, což jest třeba nebetyčně oslavit.Přichází období hojnosti\, přichází svátek Lughnasad !&nbsp\;4. a 5.8 2023&nbsp\;se kroky poutníků vydají směrem k pestrému a veselému reji\,zázemí nalezneme tentokrát na novém místě a to na&nbsp\;Kelském opidobunkriu Staré Hoře\, kousek za Brnem.Mezi Mariánským Údolím a Mokrou Horákov. Dorazit můžete pěšky\, autem\,nebo MHD Ze zastávky Mariánské Údolí je to 1km (do kopce\, ale zpátky z kopce) .Na místě vaše uši potěší trubadúrské umění a o váš břich se postarají místní trhovci a krčmáři.Jídla i pití bude hojně. Dobrá nálada jest základem dobrého veselení.
LOCATION:Mokrá-Horákov
END:VEVENT
END:VCALENDAR