BEGIN:VCALENDAR
VERSION:2.0
CALSCALE:GREGORIAN
PRODID:-//MyApp//Calendar 1.0//EN
BEGIN:VEVENT
METHOD:PUBLISH
UID:32398@regionalniportaly.cz
DTSTAMP:20260422T112209Z
DTSTART;VALUE=DATE:20230603
DTEND;VALUE=DATE:20230604
SUMMARY:Křenovický Rakovec
DESCRIPTION:20. ročník hudebního festivalu Křenovický Rakovec 2023
LOCATION:Křenovice
END:VEVENT
END:VCALENDAR