BEGIN:VCALENDAR
VERSION:2.0
CALSCALE:GREGORIAN
PRODID:-//MyApp//Calendar 1.0//EN
BEGIN:VEVENT
METHOD:PUBLISH
UID:20327@regionalniportaly.cz
DTSTAMP:20260423T093609Z
DTSTART;VALUE=DATE:20190515
DTEND;VALUE=DATE:20190516
SUMMARY:Soudní lékařství – Mýty a fakta
DESCRIPTION:Od 17:30 hod.\, v Muzeu ve Šlapanicích\n\nPřednáška soudního lékaře MUDr. Jana Krajsy na téma Soudní lékařství – Mýty a fakta.
LOCATION:Šlapanice
END:VEVENT
END:VCALENDAR