BEGIN:VCALENDAR
VERSION:2.0
CALSCALE:GREGORIAN
PRODID:-//MyApp//Calendar 1.0//EN
BEGIN:VEVENT
METHOD:PUBLISH
UID:17997@regionalniportaly.cz
DTSTAMP:20260423T115821Z
DTSTART;VALUE=DATE:20181202
DTEND;VALUE=DATE:20181203
SUMMARY:Vánoce za tatíčka Masaryka
DESCRIPTION:Celodenní program pro děti i dospělé v Muzeu ve Šlapanicích\nOd 9 do 17 hodin si můžete zahrát šifrovací hru k výstavě "Očima ženy"\, vyrábět vánoční ozdoby v prostorách výstavy "Zima na dlani" nebo se od 9 do 11 hodin zúčastnit soutěže o nejlepší bábovku a vyhrát vstupenky do všech poboček Muzea Brněnska!
LOCATION:Šlapanice
END:VEVENT
END:VCALENDAR