BEGIN:VCALENDAR
VERSION:2.0
CALSCALE:GREGORIAN
PRODID:-//MyApp//Calendar 1.0//EN
BEGIN:VEVENT
METHOD:PUBLISH
UID:17921@regionalniportaly.cz
DTSTAMP:20260423T110242Z
DTSTART;VALUE=DATE:20181124
DTEND;VALUE=DATE:20181125
SUMMARY:Babské hody
DESCRIPTION:Od 20:00 hod.\, sál restaurace Radnice ve Šlapanicích\n\nNárodopisný soubor Vrčka vás všechny srdečně zve na Babské hody.\n\nK tanci a poslechu hraje dechová hudba Blučiňáci.
LOCATION:Šlapanice
END:VEVENT
END:VCALENDAR