BEGIN:VCALENDAR
VERSION:2.0
CALSCALE:GREGORIAN
PRODID:-//MyApp//Calendar 1.0//EN
BEGIN:VEVENT
METHOD:PUBLISH
UID:17726@regionalniportaly.cz
DTSTAMP:20260423T093619Z
DTSTART;VALUE=DATE:20181125
DTEND;VALUE=DATE:20181126
SUMMARY:Vánoční prodejní výstava
DESCRIPTION:24.11. - 25. 11. 2018\, Rubensův sál\n\nSrdečně Vás zveme na Vánoční prodejní výstavu\, která se bude konat na zámku Slavkov – Austerlitz v Rubensově sále v sobotu 24.11. a v neděli 25.11. od 9 – 16 hodin. Autorkami výstavy jsou Pavla Tauberová\, Hana Křetínská\, Veronika Jelínková. Vstupné dobrovolné.\n\nVstupné dobrovolné
LOCATION:Slavkov u Brna
END:VEVENT
END:VCALENDAR