BEGIN:VCALENDAR
VERSION:2.0
CALSCALE:GREGORIAN
PRODID:-//MyApp//Calendar 1.0//EN
BEGIN:VEVENT
METHOD:PUBLISH
UID:17375@regionalniportaly.cz
DTSTAMP:20260423T184222Z
DTSTART;VALUE=DATE:20181028
DTEND;VALUE=DATE:20181029
SUMMARY:Oslavy 100. výročí založení Československé republiky
DESCRIPTION:Od 14:45 hod.\, Masarykovo náměstí\n\nSrdečně Vás zveme na oslavy 100. výročí založení Československé republiky. \n\nPřijďte si připomenout významný den našich dějin. Přichystán je bohatý kulturní program. Dobové oblečení vítáno.
LOCATION:Šlapanice
END:VEVENT
END:VCALENDAR