BEGIN:VCALENDAR
VERSION:2.0
CALSCALE:GREGORIAN
PRODID:-//MyApp//Calendar 1.0//EN
BEGIN:VEVENT
METHOD:PUBLISH
UID:17320@regionalniportaly.cz
DTSTAMP:20260423T144214Z
DTSTART;VALUE=DATE:20181014
DTEND;VALUE=DATE:20181015
SUMMARY:Čtrnáctý dobročinný bazárek na podporu Záchranné stanice v Rajhradě
DESCRIPTION:Sobota: 16:00 - 19:00 hod.\, rajhradská sokolovna\n\nNeděle: 14:00 - 18:00 hod.\, rajhradská sokolovna\n\nTento bazárek je mimořádně pouze prodejní.
LOCATION:Rajhrad
END:VEVENT
END:VCALENDAR